BEGIN:VCALENDAR
VERSION:2.0
PRODID:-//wp-events-plugin.com//7.2.3.1//EN
TZID:America/New_York
X-WR-TIMEZONE:America/New_York
BEGIN:VEVENT
UID:15@elmsgolf.com
DTSTART;TZID=America/New_York;VALUE=DATE:20250920
DTEND;TZID=America/New_York;VALUE=DATE:20250921
DTSTAMP:20250319T171747Z
URL:https://elmsgolf.com/events/womens-club-championship-senior-club-champ
 ionship/
SUMMARY:Women’s Club Championship/ Senior Club Championship
DESCRIPTION:
CATEGORIES:Women's League
LOCATION:The Elms Golf Course\, 2 Country Club Lane\, Sandy Creek\, NY\, 13
 145\, United States
X-APPLE-STRUCTURED-LOCATION;VALUE=URI;X-ADDRESS=2 Country Club Lane\, Sandy
  Creek\, NY\, 13145\, United States;X-APPLE-RADIUS=100;X-TITLE=The Elms Go
 lf Course:geo:0,0
END:VEVENT
BEGIN:VTIMEZONE
TZID:America/New_York
X-LIC-LOCATION:America/New_York
BEGIN:DAYLIGHT
DTSTART:20250309T030000
TZOFFSETFROM:-0500
TZOFFSETTO:-0400
TZNAME:EDT
END:DAYLIGHT
END:VTIMEZONE
END:VCALENDAR