BEGIN:VCALENDAR
VERSION:2.0
PRODID:-//wp-events-plugin.com//7.2.3.1//EN
TZID:America/New_York
X-WR-TIMEZONE:America/New_York
BEGIN:VEVENT
UID:47@elmsgolf.com
DTSTART;TZID=America/New_York;VALUE=DATE:20250831
DTEND;TZID=America/New_York;VALUE=DATE:20250901
DTSTAMP:20250320T132149Z
URL:https://elmsgolf.com/events/mariah-mcconnell-sun-august-31-afternoon-3
 -hours/
SUMMARY:Mariah McConnell | Sun\, August 31 - Afternoon (3 hours)
DESCRIPTION:
CATEGORIES:Music Event
LOCATION:The Elms Clubhouse\, 21 Country Club Lane\, Sandy Creek\, 13145\, 
 United States
X-APPLE-STRUCTURED-LOCATION;VALUE=URI;X-ADDRESS=21 Country Club Lane\, Sand
 y Creek\, 13145\, United States;X-APPLE-RADIUS=100;X-TITLE=The Elms Clubho
 use:geo:0,0
END:VEVENT
BEGIN:VTIMEZONE
TZID:America/New_York
X-LIC-LOCATION:America/New_York
BEGIN:DAYLIGHT
DTSTART:20250309T030000
TZOFFSETFROM:-0500
TZOFFSETTO:-0400
TZNAME:EDT
END:DAYLIGHT
END:VTIMEZONE
END:VCALENDAR