BEGIN:VCALENDAR
VERSION:2.0
PRODID:-//wp-events-plugin.com//7.2.3.1//EN
TZID:America/New_York
X-WR-TIMEZONE:America/New_York
BEGIN:VEVENT
UID:34@elmsgolf.com
DTSTART;TZID=America/New_York:20250719T130000
DTEND;TZID=America/New_York:20250719T160000
DTSTAMP:20250320T130348Z
URL:https://elmsgolf.com/events/jack-jennings-sat-july-19-1-4-pm/
SUMMARY:Jack Jennings | Sat\, July 19 - 1 – 4 PM
DESCRIPTION:
CATEGORIES:Music Event
LOCATION:The Elms Clubhouse\, 21 Country Club Lane\, Sandy Creek\, 13145\, 
 United States
X-APPLE-STRUCTURED-LOCATION;VALUE=URI;X-ADDRESS=21 Country Club Lane\, Sand
 y Creek\, 13145\, United States;X-APPLE-RADIUS=100;X-TITLE=The Elms Clubho
 use:geo:0,0
END:VEVENT
BEGIN:VTIMEZONE
TZID:America/New_York
X-LIC-LOCATION:America/New_York
BEGIN:DAYLIGHT
DTSTART:20250309T030000
TZOFFSETFROM:-0500
TZOFFSETTO:-0400
TZNAME:EDT
END:DAYLIGHT
END:VTIMEZONE
END:VCALENDAR